BEGIN:VCALENDAR
VERSION:2.0
PRODID:-//TIC Podnanos - ECPv6.0.9//NONSGML v1.0//EN
CALSCALE:GREGORIAN
METHOD:PUBLISH
X-WR-CALNAME:TIC Podnanos
X-ORIGINAL-URL:https://www.tic-podnanos.si
X-WR-CALDESC:Events for TIC Podnanos
REFRESH-INTERVAL;VALUE=DURATION:PT1H
X-Robots-Tag:noindex
X-PUBLISHED-TTL:PT1H
BEGIN:VTIMEZONE
TZID:UTC
BEGIN:STANDARD
TZOFFSETFROM:+0000
TZOFFSETTO:+0000
TZNAME:UTC
DTSTART:20190101T000000
END:STANDARD
END:VTIMEZONE
BEGIN:VEVENT
DTSTART;TZID=UTC:20190616T143000
DTEND;TZID=UTC:20190616T170000
DTSTAMP:20260425T201532
CREATED:20190613T145845Z
LAST-MODIFIED:20190613T145845Z
UID:2908-1560695400-1560704400@www.tic-podnanos.si
SUMMARY:Predavanje s. Katje Štemberger\, izkušnje iz Kenije
DESCRIPTION:      Turistično društvo Podnanos in Župnija Podnanos\nvabita\nv nedeljo\, 16. junija ob 14.30 uri\nv Marijino dvorano župnijskega doma v Podnanos\,\nkjer bo s. Katja Štemberger v besedi\, sliki in filmu\npredstavila svoje misijonske izkušnje v Keniji\,\nkjer je bila letos pozimi. \nLepo vabljeni!
URL:https://www.tic-podnanos.si/dogodek/predavanje-s-katje-stemberger-izkusnje-iz-kenije/
CATEGORIES:Predstave
ATTACH;FMTTYPE=image/png:https://www.tic-podnanos.si/wp-content/uploads/2019/06/katja.png
END:VEVENT
END:VCALENDAR