BEGIN:VCALENDAR
VERSION:2.0
PRODID:-//TIC Podnanos - ECPv6.0.9//NONSGML v1.0//EN
CALSCALE:GREGORIAN
METHOD:PUBLISH
X-WR-CALNAME:TIC Podnanos
X-ORIGINAL-URL:https://www.tic-podnanos.si
X-WR-CALDESC:Events for TIC Podnanos
REFRESH-INTERVAL;VALUE=DURATION:PT1H
X-Robots-Tag:noindex
X-PUBLISHED-TTL:PT1H
BEGIN:VTIMEZONE
TZID:UTC
BEGIN:STANDARD
TZOFFSETFROM:+0000
TZOFFSETTO:+0000
TZNAME:UTC
DTSTART:20230101T000000
END:STANDARD
END:VTIMEZONE
BEGIN:VEVENT
DTSTART;TZID=UTC:20230226T080000
DTEND;TZID=UTC:20230226T170000
DTSTAMP:20260422T190740
CREATED:20230222T141133Z
LAST-MODIFIED:20230222T141232Z
UID:3417-1677398400-1677430800@www.tic-podnanos.si
SUMMARY:Smučanje v Zoncolanu 2023
DESCRIPTION:
URL:https://www.tic-podnanos.si/dogodek/smucanje-v-zoncolanu-2023/
CATEGORIES:Izleti
ATTACH;FMTTYPE=image/jpeg:https://www.tic-podnanos.si/wp-content/uploads/2023/02/lozice-smucanje.jpg
END:VEVENT
END:VCALENDAR