BEGIN:VCALENDAR
VERSION:2.0
PRODID:-//TIC Podnanos - ECPv6.0.9//NONSGML v1.0//EN
CALSCALE:GREGORIAN
METHOD:PUBLISH
X-WR-CALNAME:TIC Podnanos
X-ORIGINAL-URL:https://www.tic-podnanos.si
X-WR-CALDESC:Events for TIC Podnanos
REFRESH-INTERVAL;VALUE=DURATION:PT1H
X-Robots-Tag:noindex
X-PUBLISHED-TTL:PT1H
BEGIN:VTIMEZONE
TZID:UTC
BEGIN:STANDARD
TZOFFSETFROM:+0000
TZOFFSETTO:+0000
TZNAME:UTC
DTSTART:20210101T000000
END:STANDARD
END:VTIMEZONE
BEGIN:VEVENT
DTSTART;TZID=UTC:20210625T130000
DTEND;TZID=UTC:20210625T170000
DTSTAMP:20260424T022737
CREATED:20210620T215305Z
LAST-MODIFIED:20210620T215709Z
UID:3176-1624626000-1624640400@www.tic-podnanos.si
SUMMARY:Prireditev ob 30. obletnici  samostojne države Republike Slovenije
DESCRIPTION:Območno združenje veteranov vojne za Slovenijo\,\nPlaninsko društvo Podnanos in\nTuristično društvo Podnanos \nVABIJO \nna prireditev ob 30. obletnici\nsamostojne države Republike Slovenije\,\nki bo 25. 6. 2021 pri Vojkovi koči na Nanosu. \n \nZborno mesto pohodnikov\nje pred Gasilskim domom v Podnanosu ob 9.30.\n (Odpeljali se bodo v Rebrnice\, nato pa peš po eni izmed poti (Furlanovem žlebu)\,\npo kateri se je v času osamosvojitvene vojne oskrbovalo\nteritorialno obrambo s hrano in sanitetnim materialom pri stolpu na Nanosu.\nVzpon traja približno 2 uri.) \nKulturni program ob 13. uri\npri spominskem obeležju ob Vojkovi koči. \nPraznično popoldne bo popestril ansambel Šembidci. \nPrireditev sofinancira Občina Vipava. \n 
URL:https://www.tic-podnanos.si/dogodek/prireditev-ob-30-obletnici-samostojne-drzave-republike-slovenije/
CATEGORIES:Izleti,Kulturne prireditve
ATTACH;FMTTYPE=image/jpeg:https://www.tic-podnanos.si/wp-content/uploads/2016/07/spominska_slovestnost_-slovenija-25_let_2.7-63.jpg
END:VEVENT
END:VCALENDAR