BEGIN:VCALENDAR
VERSION:2.0
PRODID:-//TIC Podnanos - ECPv6.0.9//NONSGML v1.0//EN
CALSCALE:GREGORIAN
METHOD:PUBLISH
X-WR-CALNAME:TIC Podnanos
X-ORIGINAL-URL:https://www.tic-podnanos.si
X-WR-CALDESC:Events for TIC Podnanos
REFRESH-INTERVAL;VALUE=DURATION:PT1H
X-Robots-Tag:noindex
X-PUBLISHED-TTL:PT1H
BEGIN:VTIMEZONE
TZID:UTC
BEGIN:STANDARD
TZOFFSETFROM:+0000
TZOFFSETTO:+0000
TZNAME:UTC
DTSTART:20220101T000000
END:STANDARD
END:VTIMEZONE
BEGIN:VEVENT
DTSTART;TZID=UTC:20220618T160000
DTEND;TZID=UTC:20220618T170000
DTSTAMP:20260421T013215
CREATED:20220617T081318Z
LAST-MODIFIED:20220617T081318Z
UID:3264-1655568000-1655571600@www.tic-podnanos.si
SUMMARY:Delavnica izdelovanja venčkov sv. Ivana
DESCRIPTION:
URL:https://www.tic-podnanos.si/dogodek/delavnica-izdelovanja-venckov-sv-ivana/
CATEGORIES:Delavnice
ATTACH;FMTTYPE=image/jpeg:https://www.tic-podnanos.si/wp-content/uploads/2019/06/venčki-sv.-ivana-1.jpg
END:VEVENT
END:VCALENDAR